BEGIN:VCALENDAR
VERSION:2.0
PRODID:-//hacksw/handcal//NONSGML v1.0//EN
BEGIN:VEVENT
SUMMARY:J4 phase 2 tennis de table
UID:fbdd3c56-bef8-4547-9295-ac70aca92198
DTSTART:20260426T070000Z
DTEND:20260426T103000Z
LOCATION:Localisation   
CATEGORIES:Sportif
STATUS:
DESCRIPTION:<p>Notre equipe 3 de PR leader recoit Aiffres 6eme pour
 confirmer sa 1ere place</p>
 
 <p>L'equipe sera composee de William,
 Phiphi, Mathis et Thierry O.</p>
URL;VALUE=URI:https://csct-thouars.sportsregions.fr/evenements/2026/04/26/j4-phase-2-tennis-de-table-2444033
END:VEVENT
END:VCALENDAR
