BEGIN:VCALENDAR
VERSION:2.0
PRODID:-//hacksw/handcal//NONSGML v1.0//EN
BEGIN:VEVENT
SUMMARY:Coupe des Deux-Sevres Tour 4 - Tennis de table
UID:ede1517a-2644-42f5-943b-0f798bc77124
DTSTART:20260417T180000Z
DTEND:20260417T210000Z
LOCATION:Localisation   
CATEGORIES:Sportif
STATUS:
DESCRIPTION:<p>Dans le tableau principal,</p>
 
 <p>St Leger de
 Montbrun 2 (-3000) / Thouars 1 (-4000)</p>
 
 <p>Breuil Chaussee 1
 (-4000) / Thouars 2 (-3000)</p>
URL;VALUE=URI:https://csct-thouars.sportsregions.fr/evenements/2026/04/17/coupe-des-deux-sevres-tour-4-tennis-de-table-2441115
END:VEVENT
END:VCALENDAR
