BEGIN:VCALENDAR
VERSION:2.0
PRODID:-//hacksw/handcal//NONSGML v1.0//EN
BEGIN:VEVENT
SUMMARY:J3 phase 2 Tennis de Table
UID:28380089-a685-4423-a038-8a97d27f1cc5
DTSTART:20260321T130000Z
DTEND:20260321T160000Z
LOCATION:Localisation   
CATEGORIES:Sportif
STATUS:
DESCRIPTION:<p>Thouars 4 (D2) se deplace a Rhortais. L'equipe sera
 Yann, Steven, Jeremy et Wilfried</p>
 
 <p>Elle a pour objectif de
 gagner pour rester dans le trio de tete</p>
URL;VALUE=URI:https://csct-thouars.sportsregions.fr/evenements/2026/03/21/j3-phase-2-tennis-de-table-2430323
END:VEVENT
END:VCALENDAR
