BEGIN:VCALENDAR
VERSION:2.0
PRODID:-//hacksw/handcal//NONSGML v1.0//EN
BEGIN:VEVENT
SUMMARY:J2 phase 2 Tennis de Table
UID:2a8a8c9b-d84c-42b1-8b7c-3df3f7dc6b42
DTSTART:20260308T080000Z
DTEND:20260308T120000Z
LOCATION:Localisation   
CATEGORIES:Sportif
STATUS:
DESCRIPTION:<p>La Pr recoit Perigne dimanche a 9h pour confimer le
 bon debut de phase</p>
URL;VALUE=URI:https://csct-thouars.sportsregions.fr/evenements/2026/03/08/j2-phase-2-tennis-de-table-2422377
END:VEVENT
END:VCALENDAR
