BEGIN:VCALENDAR
VERSION:2.0
PRODID:-//hacksw/handcal//NONSGML v1.0//EN
BEGIN:VEVENT
SUMMARY:J2 phase 2 Tennis de Table
UID:ca6e54dc-069b-4fdd-a553-df7f5dfec7b5
DTSTART:20260307T130000Z
DTEND:20260307T180000Z
LOCATION:Localisation   
CATEGORIES:Sportif
STATUS:
DESCRIPTION:<p>La D2 recoit Pompaire a 14h pour comfirmer leur 1ere
 victoire</p>
 
 <p>La PN recoit Cestas a 14h pour se racheter de leur
 lourde defaite contre St Yrieix</p>
 
 <p>La R2 recoit Chauvigny a 14h
 pour reagir et lancer cette phase </p>
URL;VALUE=URI:https://csct-thouars.sportsregions.fr/evenements/2026/03/07/j2-phase-2-tennis-de-table-2422370
END:VEVENT
END:VCALENDAR
